BEGIN:VCALENDAR
VERSION:2.0
PRODID:-//wp-events-plugin.com//7.2.3.1//EN
TZID:America/New_York
X-WR-TIMEZONE:America/New_York
BEGIN:VEVENT
UID:2557@her-cpr.com
DTSTART;TZID=America/New_York:20250527T180000
DTEND;TZID=America/New_York:20250527T183000
DTSTAMP:20250307T161150Z
URL:https://her-cpr.com/courses/bls-elearning-2025-05-26/
SUMMARY:Basic Life Support [BLS]- Hands-On Session
DESCRIPTION:Basic Life Support For Healthcare Providers\nHands-On Session 
  \n\nThis registration page is for the Basic Life Support For Healthcare 
 Providers Course - Hands-On Session.\n\nTHE ONLINE PORTION OF THIS COURSE 
 MUST FIRST BE COMPLETED [for a separate fee] PRIOR TO ATTENDING THIS HANDS
 -ON SKILLS SESSION.\n\nONLINE COURSE: HEARTCODE BLS  WWW.ONLINEAHA.ORG  
  PAY SEPARATE FEE of $36.00 ON THE AMERICAN HEART ASSOCIATION WEBSITE\n\n
 \n\nClick here for details and to learn about more about this course.
CATEGORIES:BLS Skills
LOCATION:Conant Community Health Center\, 5 Wally Krueger Way\, Suite 6\, B
 ridgewater\, MA\, 02324\, United States
GEO:41.97542019999999;-70.97720290000001
X-APPLE-STRUCTURED-LOCATION;VALUE=URI;X-ADDRESS=5 Wally Krueger Way\, Suite
  6\, Bridgewater\, MA\, 02324\, United States;X-APPLE-RADIUS=100;X-TITLE=C
 onant Community Health Center:geo:41.97542019999999,-70.97720290000001
END:VEVENT
BEGIN:VTIMEZONE
TZID:America/New_York
X-LIC-LOCATION:America/New_York
BEGIN:DAYLIGHT
DTSTART:20250309T030000
TZOFFSETFROM:-0500
TZOFFSETTO:-0400
TZNAME:EDT
END:DAYLIGHT
END:VTIMEZONE
END:VCALENDAR